BEGIN:VCALENDAR
VERSION:2.0
PRODID:-//Orrville Community Theater - ECPv6.15.20//NONSGML v1.0//EN
CALSCALE:GREGORIAN
METHOD:PUBLISH
X-ORIGINAL-URL:https://orrvillecommunitytheater.org
X-WR-CALDESC:Events for Orrville Community Theater
REFRESH-INTERVAL;VALUE=DURATION:PT1H
X-Robots-Tag:noindex
X-PUBLISHED-TTL:PT1H
BEGIN:VTIMEZONE
TZID:America/New_York
BEGIN:DAYLIGHT
TZOFFSETFROM:-0500
TZOFFSETTO:-0400
TZNAME:EDT
DTSTART:20230312T070000
END:DAYLIGHT
BEGIN:STANDARD
TZOFFSETFROM:-0400
TZOFFSETTO:-0500
TZNAME:EST
DTSTART:20231105T060000
END:STANDARD
BEGIN:DAYLIGHT
TZOFFSETFROM:-0500
TZOFFSETTO:-0400
TZNAME:EDT
DTSTART:20240310T070000
END:DAYLIGHT
BEGIN:STANDARD
TZOFFSETFROM:-0400
TZOFFSETTO:-0500
TZNAME:EST
DTSTART:20241103T060000
END:STANDARD
BEGIN:DAYLIGHT
TZOFFSETFROM:-0500
TZOFFSETTO:-0400
TZNAME:EDT
DTSTART:20250309T070000
END:DAYLIGHT
BEGIN:STANDARD
TZOFFSETFROM:-0400
TZOFFSETTO:-0500
TZNAME:EST
DTSTART:20251102T060000
END:STANDARD
END:VTIMEZONE
BEGIN:VEVENT
DTSTART;TZID=America/New_York:20240719T100000
DTEND;TZID=America/New_York:20240719T220000
DTSTAMP:20260425T101749
CREATED:20240420T141018Z
LAST-MODIFIED:20240420T141018Z
UID:9985-1721383200-1721426400@orrvillecommunitytheater.org
SUMMARY:Fundraiser - Panda Express Wooster
DESCRIPTION:Come out and support us on Friday\, July 19th\, 2024! Please show the flyer below (coming soon) when ordering or enter the code (coming soon) on your Panda Express App in the fundraiser code box when you place your order. \nYour donations will help us to continue to buy props\, rent performing locations\, buy scripts and rights to plays\, and ultimately help us save enough to get back into a building of our own. \nThank you for supporting us!
URL:https://orrvillecommunitytheater.org/event/fundraiser-panda-express-wooster-3/
LOCATION:Panda Express – Wooster\, 3910 Burbank Road\, Wooster\, OH\, 44691\, United States
CATEGORIES:Fundraiser
ORGANIZER;CN="Orrville Community Theater":MAILTO:orrvilleplayers@gmail.com
END:VEVENT
END:VCALENDAR