BEGIN:VCALENDAR
VERSION:2.0
PRODID:-//Orrville Community Theater - ECPv6.15.20//NONSGML v1.0//EN
CALSCALE:GREGORIAN
METHOD:PUBLISH
X-ORIGINAL-URL:https://orrvillecommunitytheater.org
X-WR-CALDESC:Events for Orrville Community Theater
REFRESH-INTERVAL;VALUE=DURATION:PT1H
X-Robots-Tag:noindex
X-PUBLISHED-TTL:PT1H
BEGIN:VTIMEZONE
TZID:America/New_York
BEGIN:DAYLIGHT
TZOFFSETFROM:-0500
TZOFFSETTO:-0400
TZNAME:EDT
DTSTART:20250309T070000
END:DAYLIGHT
BEGIN:STANDARD
TZOFFSETFROM:-0400
TZOFFSETTO:-0500
TZNAME:EST
DTSTART:20251102T060000
END:STANDARD
BEGIN:DAYLIGHT
TZOFFSETFROM:-0500
TZOFFSETTO:-0400
TZNAME:EDT
DTSTART:20260308T070000
END:DAYLIGHT
BEGIN:STANDARD
TZOFFSETFROM:-0400
TZOFFSETTO:-0500
TZNAME:EST
DTSTART:20261101T060000
END:STANDARD
BEGIN:DAYLIGHT
TZOFFSETFROM:-0500
TZOFFSETTO:-0400
TZNAME:EDT
DTSTART:20270314T070000
END:DAYLIGHT
BEGIN:STANDARD
TZOFFSETFROM:-0400
TZOFFSETTO:-0500
TZNAME:EST
DTSTART:20271107T060000
END:STANDARD
END:VTIMEZONE
BEGIN:VEVENT
DTSTART;TZID=America/New_York:20260426T140000
DTEND;TZID=America/New_York:20260426T170000
DTSTAMP:20260423T154026
CREATED:20260331T212359Z
LAST-MODIFIED:20260331T212746Z
UID:10942-1777212000-1777222800@orrvillecommunitytheater.org
SUMMARY:A Family Reunion To Die For - Sunday
DESCRIPTION:A Family Reunion To Die For\n \nPre-sale tickets will be available until 2 hours before showtime at a discounted rate of $12. Tickets at the door will be $15. This show is not a dinner show\, but concessions will be available by donation. \nBecause of the themes of violence and adultery\, the recommended audience age is 12 and up. Parents\, please use your discretion. \nDoors will open at 1:15PM. \nShow Synopsis:\nIt’s time for the Knotting Family Reunion\, and newlywed Christine Franklin is eager to show off her husband Freddie to the family she hasn’t seen in years.  The joyful reunion quickly turns sour though when Aunt Gretchen\, Cousin Rachel\, and Cousin Stefan are all murdered.  The members of the Knotting Family are dropping like flies\, and Christine seems to be next in line to become a victim!  To make matters worse\, a terrible storm has trapped all of the guests inside.  It’s up to Freddie to catch the murderer and save his blushing bride.  After all\, he is a detective — well\, a mall security guard turned wannabe detective\, anyway.  Who is trying to wipe out the Knotting family?  Is it the pair of squirrel-hunting hillbilly sisters with their rifle?  The former Vegas showgirl with a knack for knitting?  The maid with a single digit IQ?  The grouchy cook?  The bitter journalist?  The troupe of mimes?  Gretchen\, Rachel\, and Stefan return from the dead\, and with the audience’s help\, teach Freddie what it takes to be a real detective.
URL:https://orrvillecommunitytheater.org/event/a-family-reunion-to-die-for-sunday/
LOCATION:Orrville American Legion – Post 282\, 237 East Market Street\, Orrville\, OH\, 44667\, United States
CATEGORIES:Show
ORGANIZER;CN="Orrville Community Theater":MAILTO:orrvilleplayers@gmail.com
END:VEVENT
END:VCALENDAR