BEGIN:VCALENDAR
VERSION:2.0
PRODID:-//Orrville Community Theater - ECPv6.15.20//NONSGML v1.0//EN
CALSCALE:GREGORIAN
METHOD:PUBLISH
X-WR-CALNAME:Orrville Community Theater
X-ORIGINAL-URL:https://orrvillecommunitytheater.org
X-WR-CALDESC:Events for Orrville Community Theater
REFRESH-INTERVAL;VALUE=DURATION:PT1H
X-Robots-Tag:noindex
X-PUBLISHED-TTL:PT1H
BEGIN:VTIMEZONE
TZID:UTC
BEGIN:STANDARD
TZOFFSETFROM:+0000
TZOFFSETTO:+0000
TZNAME:UTC
DTSTART:20210101T000000
END:STANDARD
END:VTIMEZONE
BEGIN:VTIMEZONE
TZID:America/New_York
BEGIN:DAYLIGHT
TZOFFSETFROM:-0500
TZOFFSETTO:-0400
TZNAME:EDT
DTSTART:20180311T070000
END:DAYLIGHT
BEGIN:STANDARD
TZOFFSETFROM:-0400
TZOFFSETTO:-0500
TZNAME:EST
DTSTART:20181104T060000
END:STANDARD
BEGIN:DAYLIGHT
TZOFFSETFROM:-0500
TZOFFSETTO:-0400
TZNAME:EDT
DTSTART:20190310T070000
END:DAYLIGHT
BEGIN:STANDARD
TZOFFSETFROM:-0400
TZOFFSETTO:-0500
TZNAME:EST
DTSTART:20191103T060000
END:STANDARD
BEGIN:DAYLIGHT
TZOFFSETFROM:-0500
TZOFFSETTO:-0400
TZNAME:EDT
DTSTART:20200308T070000
END:DAYLIGHT
BEGIN:STANDARD
TZOFFSETFROM:-0400
TZOFFSETTO:-0500
TZNAME:EST
DTSTART:20201101T060000
END:STANDARD
BEGIN:DAYLIGHT
TZOFFSETFROM:-0500
TZOFFSETTO:-0400
TZNAME:EDT
DTSTART:20210314T070000
END:DAYLIGHT
BEGIN:STANDARD
TZOFFSETFROM:-0400
TZOFFSETTO:-0500
TZNAME:EST
DTSTART:20211107T060000
END:STANDARD
BEGIN:DAYLIGHT
TZOFFSETFROM:-0500
TZOFFSETTO:-0400
TZNAME:EDT
DTSTART:20220313T070000
END:DAYLIGHT
BEGIN:STANDARD
TZOFFSETFROM:-0400
TZOFFSETTO:-0500
TZNAME:EST
DTSTART:20221106T060000
END:STANDARD
BEGIN:DAYLIGHT
TZOFFSETFROM:-0500
TZOFFSETTO:-0400
TZNAME:EDT
DTSTART:20230312T070000
END:DAYLIGHT
BEGIN:STANDARD
TZOFFSETFROM:-0400
TZOFFSETTO:-0500
TZNAME:EST
DTSTART:20231105T060000
END:STANDARD
END:VTIMEZONE
BEGIN:VEVENT
DTSTART;TZID=UTC:20220626T143000
DTEND;TZID=UTC:20220626T160000
DTSTAMP:20260425T225724
CREATED:20220427T145754Z
LAST-MODIFIED:20220624T013511Z
UID:7045-1656253800-1656259200@orrvillecommunitytheater.org
SUMMARY:Not-So-Grimm Tales
DESCRIPTION:Please note\, ticket purchases will not be refunded\, so all sales are final. Please double check your cart before purchasing. Doors will be open 45 minutes before showtime. Light concessions will be available to purchase by donation (cash\, check\, or PayPal please).\nTickets purchased online (up until 2 hours before showtime) are at a special discounted rate. Tickets at the door will be a flat fee of $10.00. \nEventbrite tickets are on sale here. \nTo meet our cast and crew\, click here! \nJoin our Rising Stars\, ages 4-18\, for a hilarious tongue-in-cheek retelling of some of your favorite fairy tales! A working mother notices her daughter has picked up some not-so-great lessons from the fairy tales she’s been reading\, so she sits her down and tells her new\, more modern and empowering versions of some of the classics. In Mom’s new and improved variations\, Little Red is an animal rights activist and vegetarian who saves the wolf from the Woodsman; Snow White unionizes the dwarves and overthrows her beauty pageant loving stepmother along with her assistant\, Mir’ah; and Cinderella shares her love of angst-filled poetry with Charming and they run off together to live the lives of Bohemian artists. \n“Not So Grimm Tales” (by Kevin Bean\, Produced by special arrangement with Pioneer Drama Service\, Inc.\, Englewood\, Colorado)
URL:https://orrvillecommunitytheater.org/event/not-so-grimm-tales-3/
LOCATION:Christ United Church of Christ\, 301 North Main Street\, Orrville\, OH\, 44667\, United States
CATEGORIES:Show,Workshop
ORGANIZER;CN="Orrville Community Theater":MAILTO:orrvilleplayers@gmail.com
END:VEVENT
BEGIN:VEVENT
DTSTART;TZID=UTC:20220625T190000
DTEND;TZID=UTC:20220625T203000
DTSTAMP:20260425T225724
CREATED:20220427T145646Z
LAST-MODIFIED:20220624T013439Z
UID:7043-1656183600-1656189000@orrvillecommunitytheater.org
SUMMARY:Not-So-Grimm Tales
DESCRIPTION:Please note\, ticket purchases will not be refunded\, so all sales are final. Please double check your cart before purchasing. Doors will be open 45 minutes before showtime. Lights concessions will be available to purchase by donation (cash or check please).\nTickets purchased online (up until 2 hours before showtime) are at a special discounted rate. Tickets at the door will be a flat fee of $10.00. \nEventbrite tickets are on sale here. \nTo meet our cast and crew\, click here! \nJoin our Rising Stars\, ages 4-18\, for a hilarious tongue-in-cheek retelling of some of your favorite fairy tales! A working mother notices her daughter has picked up some not-so-great lessons from the fairy tales she’s been reading\, so she sits her down and tells her new\, more modern and empowering versions of some of the classics. In Mom’s new and improved variations\, Little Red is an animal rights activist and vegetarian who saves the wolf from the Woodsman; Snow White unionizes the dwarves and overthrows her beauty pageant loving stepmother along with her assistant\, Mir’ah; and Cinderella shares her love of angst-filled poetry with Charming and they run off together to live the lives of Bohemian artists. \n“Not So Grimm Tales” (by Kevin Bean\, Produced by special arrangement with Pioneer Drama Service\, Inc.\, Englewood\, Colorado)
URL:https://orrvillecommunitytheater.org/event/not-so-grimm-tales-2/
LOCATION:Christ United Church of Christ\, 301 North Main Street\, Orrville\, OH\, 44667\, United States
CATEGORIES:Show,Workshop
ORGANIZER;CN="Orrville Community Theater":MAILTO:orrvilleplayers@gmail.com
END:VEVENT
BEGIN:VEVENT
DTSTART;TZID=UTC:20220624T190000
DTEND;TZID=UTC:20220624T203000
DTSTAMP:20260425T225724
CREATED:20220427T145243Z
LAST-MODIFIED:20220624T013354Z
UID:7041-1656097200-1656102600@orrvillecommunitytheater.org
SUMMARY:Not-So-Grimm Tales
DESCRIPTION:Please note\, ticket purchases will not be refunded\, so all sales are final. Please double check your cart before purchasing. Doors will be open 45 minutes before showtime. Lights concessions will be available to purchase by donation (cash or check please).\nTickets purchased online (up until 2 hours before showtime) are at a special discounted rate. Tickets at the door will be a flat fee of $10.00. \nEventbrite tickets are on sale here. \nTo meet our cast and crew\, click here! \nJoin our Rising Stars\, ages 4-18\, for a hilarious tongue-in-cheek retelling of some of your favorite fairy tales! A working mother notices her daughter has picked up some not-so-great lessons from the fairy tales she’s been reading\, so she sits her down and tells her new\, more modern and empowering versions of some of the classics. In Mom’s new and improved variations\, Little Red is an animal rights activist and vegetarian who saves the wolf from the Woodsman; Snow White unionizes the dwarves and overthrows her beauty pageant loving stepmother along with her assistant\, Mir’ah; and Cinderella shares her love of angst-filled poetry with Charming and they run off together to live the lives of Bohemian artists. \n“Not So Grimm Tales” (by Kevin Bean\, Produced by special arrangement with Pioneer Drama Service\, Inc.\, Englewood\, Colorado)
URL:https://orrvillecommunitytheater.org/event/not-so-grimm-tales/
LOCATION:Christ United Church of Christ\, 301 North Main Street\, Orrville\, OH\, 44667\, United States
CATEGORIES:Show,Workshop
ORGANIZER;CN="Orrville Community Theater":MAILTO:orrvilleplayers@gmail.com
END:VEVENT
BEGIN:VEVENT
DTSTART;TZID=America/New_York:20220410T143000
DTEND;TZID=America/New_York:20220410T173000
DTSTAMP:20260425T225724
CREATED:20220124T185246Z
LAST-MODIFIED:20220407T131341Z
UID:6325-1649601000-1649611800@orrvillecommunitytheater.org
SUMMARY:Inn-Cognito
DESCRIPTION:Please note\, ticket purchases will not be refunded\, so all sales are final. Please double check your cart before purchasing. Doors will be open 45 minutes before showtime. Light concessions will be available to purchase by donation (cash or check please). \n  \nTickets purchased online (up until 2 hours before showtime) are at a special discounted rate. Tickets at the door will be a flat fee of $10.00. \nTickets also available on Eventbrite. \nDirector: Chelsea A. \nHollie Berry and her kids are opening up an old resort hotel they recently inherited\, and it seems like it’s going to be a roaring success. A missing Diamond bracelet and Hollie and her kids quickly learn that nobody at their hotel is who they say they are. In fact\, you could say they’re all traveling Inn-Cognito! \nTo meet our cast and crew\, please click here! \n\n\n\n\n\n\n\n\n\n 
URL:https://orrvillecommunitytheater.org/event/inn-cognito-3/
LOCATION:Christ United Church of Christ\, 301 North Main Street\, Orrville\, OH\, 44667\, United States
CATEGORIES:Show
ORGANIZER;CN="Orrville Community Theater":MAILTO:orrvilleplayers@gmail.com
END:VEVENT
BEGIN:VEVENT
DTSTART;TZID=America/New_York:20220409T190000
DTEND;TZID=America/New_York:20220409T220000
DTSTAMP:20260425T225724
CREATED:20220124T185031Z
LAST-MODIFIED:20220407T131426Z
UID:6322-1649530800-1649541600@orrvillecommunitytheater.org
SUMMARY:Inn-Cognito
DESCRIPTION:Please note\, ticket purchases will not be refunded\, so all sales are final. Please double check your cart before purchasing. Doors will be open 45 minutes before showtime. Lights concessions will be available to purchase by donation (cash or check please). \nTickets purchased online (up until 2 hours before showtime) are at a special discounted rate. Tickets at the door will be a flat fee of $10.00. \nTickets also available through Eventbrite. \nDirector: Chelsea A. \nHollie Berry and her kids are opening up an old resort hotel they recently inherited\, and it seems like it’s going to be a roaring success. A missing Diamond bracelet and Hollie and her kids quickly learn that nobody at their hotel is who they say they are. In fact\, you could say they’re all traveling Inn-Cognito! \nTo meet our cast and crew\, please click here! \n  \n 
URL:https://orrvillecommunitytheater.org/event/inn-cognito-2/
LOCATION:Christ United Church of Christ\, 301 North Main Street\, Orrville\, OH\, 44667\, United States
CATEGORIES:Show
ORGANIZER;CN="Orrville Community Theater":MAILTO:orrvilleplayers@gmail.com
END:VEVENT
BEGIN:VEVENT
DTSTART;TZID=America/New_York:20220408T190000
DTEND;TZID=America/New_York:20220408T220000
DTSTAMP:20260425T225724
CREATED:20220124T142958Z
LAST-MODIFIED:20220407T131513Z
UID:6259-1649444400-1649455200@orrvillecommunitytheater.org
SUMMARY:Inn-Cognito
DESCRIPTION:Please note\, ticket purchases will not be refunded\, so all sales are final. Please double check your cart before purchasing. Doors will be open 45 minutes before showtime. Light concessions will be available to purchase by donation (cash or check please). \n  \nTickets purchased online (up until 2 hours before showtime) are at a special discounted rate. Tickets at the door will be a flat fee of $10.00. \nTickets also available through Eventbrite. \nDirector: Chelsea A. \nHollie Berry and her kids are opening up an old resort hotel they recently inherited\, and it seems like it’s going to be a roaring success. A missing Diamond bracelet and Hollie and her kids quickly learn that nobody at their hotel is who they say they are. In fact\, you could say they’re all traveling Inn-Cognito! \nTo meet our cast and crew\, please click here!
URL:https://orrvillecommunitytheater.org/event/inn-cognito/
LOCATION:Christ United Church of Christ\, 301 North Main Street\, Orrville\, OH\, 44667\, United States
CATEGORIES:Show
ORGANIZER;CN="Orrville Community Theater":MAILTO:orrvilleplayers@gmail.com
END:VEVENT
BEGIN:VEVENT
DTSTART;TZID=America/New_York:20190628T190000
DTEND;TZID=America/New_York:20190628T190000
DTSTAMP:20260425T225724
CREATED:20190529T141511Z
LAST-MODIFIED:20190529T141511Z
UID:2260-1561748400-1561748400@orrvillecommunitytheater.org
SUMMARY:Crumpled Classics Performance
DESCRIPTION:OCP 🌟 Rising Stars 🌟 present:\nCrumpled Classics (By Craig Sodaro\, Presented by special arrangement with Pioneer Drama Inc). \nDirector: Adam & Colleen Hile\nCo-Director: Julie Mills \nShow dates: June 28 and 29 at 7pm\, June 30 at 2:30. \nTickets will be $5 at the door (no presale tickets for this show!) \nCrumpled Classics:\nWith first year teacher Ms. Collins out sick\, a quirky cadre of students take it upon themselves to pull together the school’s annual “Classics on Parade\,” acting out famous stories that they studied in their literature class. The students\, however\, decide to make the stories relevant to today’s audiences\, with hilarious results! The authors are surely rolling over in their graves and Ms. Collins is terrified of losing her job\, especially when the principal calls the superintendent in the middle of the show! You’ll love the hysterics of these plays-within-a-play. Romeo and Juliet set in a fast food place! Frankie Stein trying to assemble the perfect prom date! A second rate theatrical agent becoming the Phantom of the Opera so he can force a good deal! A desperate Shirley Holmes and Joni Watson jump-starting a new detective agency! And teenage slacker Artie surprising his unimpressed mother with a sword he pulled from a stone! It’s a comedy treat sprinkled with outrageous takes on some very familiar characters.
URL:https://orrvillecommunitytheater.org/event/crumpled-classics-performance/
LOCATION:Orrville Community Theater\, 307 Hostetler Road\, Orrville\, 44667\, United States
CATEGORIES:Show
ORGANIZER;CN="Orrville Community Theater":MAILTO:orrvilleplayers@gmail.com
END:VEVENT
END:VCALENDAR