BEGIN:VCALENDAR
VERSION:2.0
PRODID:-//Orrville Community Theater - ECPv6.15.20//NONSGML v1.0//EN
CALSCALE:GREGORIAN
METHOD:PUBLISH
X-ORIGINAL-URL:https://orrvillecommunitytheater.org
X-WR-CALDESC:Events for Orrville Community Theater
REFRESH-INTERVAL;VALUE=DURATION:PT1H
X-Robots-Tag:noindex
X-PUBLISHED-TTL:PT1H
BEGIN:VTIMEZONE
TZID:America/New_York
BEGIN:DAYLIGHT
TZOFFSETFROM:-0500
TZOFFSETTO:-0400
TZNAME:EDT
DTSTART:20230312T070000
END:DAYLIGHT
BEGIN:STANDARD
TZOFFSETFROM:-0400
TZOFFSETTO:-0500
TZNAME:EST
DTSTART:20231105T060000
END:STANDARD
BEGIN:DAYLIGHT
TZOFFSETFROM:-0500
TZOFFSETTO:-0400
TZNAME:EDT
DTSTART:20240310T070000
END:DAYLIGHT
BEGIN:STANDARD
TZOFFSETFROM:-0400
TZOFFSETTO:-0500
TZNAME:EST
DTSTART:20241103T060000
END:STANDARD
BEGIN:DAYLIGHT
TZOFFSETFROM:-0500
TZOFFSETTO:-0400
TZNAME:EDT
DTSTART:20250309T070000
END:DAYLIGHT
BEGIN:STANDARD
TZOFFSETFROM:-0400
TZOFFSETTO:-0500
TZNAME:EST
DTSTART:20251102T060000
END:STANDARD
END:VTIMEZONE
BEGIN:VTIMEZONE
TZID:UTC
BEGIN:STANDARD
TZOFFSETFROM:+0000
TZOFFSETTO:+0000
TZNAME:UTC
DTSTART:20210101T000000
END:STANDARD
END:VTIMEZONE
BEGIN:VEVENT
DTSTART;TZID=America/New_York:20240727T090000
DTEND;TZID=America/New_York:20240727T150000
DTSTAMP:20260423T202251
CREATED:20240401T175456Z
LAST-MODIFIED:20240401T175457Z
UID:9760-1722070800-1722092400@orrvillecommunitytheater.org
SUMMARY:Wayne County Maker Faire
DESCRIPTION:Stop by and visit us at this year’s Maker Faire! In the past we have performed small skits\, played giveaway games\, created make and take masks\, and a whole lot more. With a new venue and a much larger event scheduled\, come see see what we’ve been working on this year! \nFor more information on the Maker Faire\, click here. \n\n		\n		\n			\n				\n			\n			\n				\n			\n			\n				\n			\n			\n				\n			\n			\n				\n			\n			\n		\n\n  \n  \n 
URL:https://orrvillecommunitytheater.org/event/wayne-county-maker-faire-3/
LOCATION:Wayne County Fairgrounds\, 199 Vanover St\, Wooster\, 44691\, United States
CATEGORIES:Community Event
END:VEVENT
BEGIN:VEVENT
DTSTART;TZID=America/New_York:20240510T100000
DTEND;TZID=America/New_York:20240510T220000
DTSTAMP:20260423T202251
CREATED:20240402T164232Z
LAST-MODIFIED:20240411T204207Z
UID:9780-1715335200-1715378400@orrvillecommunitytheater.org
SUMMARY:Fundraiser - Panda Express Wooster
DESCRIPTION:Come out and support us on Friday\, May 10th\, 2024! Please show the flyer below when ordering or enter the code 370654 on your Panda Express App in the fundraiser code box when you place your order. \nYour donations will help us to continue to buy props\, rent performing locations\, buy scripts and rights to plays\, and ultimately help us save enough to get back into a building of our own. \nThank you for supporting us!
URL:https://orrvillecommunitytheater.org/event/fundraiser-panda-express-wooster/
LOCATION:Panda Express – Wooster\, 3910 Burbank Road\, Wooster\, OH\, 44691\, United States
CATEGORIES:Community Event,Fundraiser
ORGANIZER;CN="Orrville Community Theater":MAILTO:orrvilleplayers@gmail.com
END:VEVENT
BEGIN:VEVENT
DTSTART;TZID=UTC:20221022T170000
DTEND;TZID=UTC:20221022T200000
DTSTAMP:20260423T202251
CREATED:20220908T175227Z
LAST-MODIFIED:20220908T175227Z
UID:7670-1666458000-1666468800@orrvillecommunitytheater.org
SUMMARY:Orrville Fall Fest 2022
DESCRIPTION:Come find us and enjoy some candy! It’s fun for the whole family!
URL:https://orrvillecommunitytheater.org/event/orrville-fall-fest-2022/
LOCATION:OH
CATEGORIES:Community Event
END:VEVENT
BEGIN:VEVENT
DTSTART;TZID=UTC:20220629T190000
DTEND;TZID=UTC:20220629T210000
DTSTAMP:20260423T202251
CREATED:20220428T125912Z
LAST-MODIFIED:20220627T180854Z
UID:7053-1656529200-1656536400@orrvillecommunitytheater.org
SUMMARY:Orrville 4th of July Parade
DESCRIPTION:See if you can spot us in this year’s 4th of July parade! \n \nFor more information on Orrville’s 4th of July festivities\, follow Orrville Firefighters Association! \nParade line up starts at 5PM at Orrville High School. All parade walkers should be at our truck by 6:30PM. We will have candy and flyers to pass out to parade viewers.
URL:https://orrvillecommunitytheater.org/event/orrville-4th-of-july-parade/
LOCATION:OH
CATEGORIES:Community Event
END:VEVENT
BEGIN:VEVENT
DTSTART;TZID=UTC:20220521T100000
DTEND;TZID=UTC:20220521T140000
DTSTAMP:20260423T202251
CREATED:20220322T110849Z
LAST-MODIFIED:20220322T110849Z
UID:6534-1653127200-1653141600@orrvillecommunitytheater.org
SUMMARY:Wayne County Maker Faire
DESCRIPTION:This year the Wayne County Maker Faire is back on\, after a COVID-19 hiatus! We were graciously invited to participate in this community event. Please RSVP if you plan on stopping by. More details to come!
URL:https://orrvillecommunitytheater.org/event/wayne-county-maker-faire/
LOCATION:The University of Akron: Wayne College\, 1901 Smucker Road\, Orrville\, OH\, 44667\, United States
CATEGORIES:Community Event
END:VEVENT
END:VCALENDAR