BEGIN:VCALENDAR
VERSION:2.0
PRODID:-//Orrville Community Theater - ECPv6.15.20//NONSGML v1.0//EN
CALSCALE:GREGORIAN
METHOD:PUBLISH
X-WR-CALNAME:Orrville Community Theater
X-ORIGINAL-URL:https://orrvillecommunitytheater.org
X-WR-CALDESC:Events for Orrville Community Theater
REFRESH-INTERVAL;VALUE=DURATION:PT1H
X-Robots-Tag:noindex
X-PUBLISHED-TTL:PT1H
BEGIN:VTIMEZONE
TZID:UTC
BEGIN:STANDARD
TZOFFSETFROM:+0000
TZOFFSETTO:+0000
TZNAME:UTC
DTSTART:20210101T000000
END:STANDARD
END:VTIMEZONE
BEGIN:VTIMEZONE
TZID:America/New_York
BEGIN:DAYLIGHT
TZOFFSETFROM:-0500
TZOFFSETTO:-0400
TZNAME:EDT
DTSTART:20200308T070000
END:DAYLIGHT
BEGIN:STANDARD
TZOFFSETFROM:-0400
TZOFFSETTO:-0500
TZNAME:EST
DTSTART:20201101T060000
END:STANDARD
BEGIN:DAYLIGHT
TZOFFSETFROM:-0500
TZOFFSETTO:-0400
TZNAME:EDT
DTSTART:20210314T070000
END:DAYLIGHT
BEGIN:STANDARD
TZOFFSETFROM:-0400
TZOFFSETTO:-0500
TZNAME:EST
DTSTART:20211107T060000
END:STANDARD
BEGIN:DAYLIGHT
TZOFFSETFROM:-0500
TZOFFSETTO:-0400
TZNAME:EDT
DTSTART:20220313T070000
END:DAYLIGHT
BEGIN:STANDARD
TZOFFSETFROM:-0400
TZOFFSETTO:-0500
TZNAME:EST
DTSTART:20221106T060000
END:STANDARD
END:VTIMEZONE
BEGIN:VEVENT
DTSTART;TZID=UTC:20220422T173000
DTEND;TZID=UTC:20220422T203000
DTSTAMP:20260424T070336
CREATED:20220407T132350Z
LAST-MODIFIED:20220407T132619Z
UID:6830-1650648600-1650659400@orrvillecommunitytheater.org
SUMMARY:Auditions - Not-So-Grimm Tales
DESCRIPTION:Calling on children ages 4-18 that are interested in theater! \n\nWe are having auditions for our next Rising Stars Workshop. Details on rehearsals and show times can be found here. \nTo sign up for an audition slot\, please click here!
URL:https://orrvillecommunitytheater.org/event/auditions-not-so-grimm-tales/
LOCATION:Christ United Church of Christ\, 301 North Main Street\, Orrville\, OH\, 44667\, United States
CATEGORIES:Auditions,Workshop
ORGANIZER;CN="Orrville Community Theater":MAILTO:orrvilleplayers@gmail.com
END:VEVENT
BEGIN:VEVENT
DTSTART;TZID=America/New_York:20211003T160000
DTEND;TZID=America/New_York:20211003T180000
DTSTAMP:20260424T070336
CREATED:20210923T134859Z
LAST-MODIFIED:20210923T154100Z
UID:6183-1633276800-1633284000@orrvillecommunitytheater.org
SUMMARY:It's A Wonderful Life Auditions
DESCRIPTION:
URL:https://orrvillecommunitytheater.org/event/its-a-wonderful-life-auditions/
LOCATION:Sonnenberg Village\, 13497 Hackett Road\, Apple Creek\, 44606
CATEGORIES:Auditions
END:VEVENT
END:VCALENDAR