BEGIN:VCALENDAR
VERSION:2.0
PRODID:-//Orrville Community Theater - ECPv6.15.20//NONSGML v1.0//EN
CALSCALE:GREGORIAN
METHOD:PUBLISH
X-ORIGINAL-URL:https://orrvillecommunitytheater.org
X-WR-CALDESC:Events for Orrville Community Theater
REFRESH-INTERVAL;VALUE=DURATION:PT1H
X-Robots-Tag:noindex
X-PUBLISHED-TTL:PT1H
BEGIN:VTIMEZONE
TZID:UTC
BEGIN:STANDARD
TZOFFSETFROM:+0000
TZOFFSETTO:+0000
TZNAME:UTC
DTSTART:20210101T000000
END:STANDARD
END:VTIMEZONE
BEGIN:VTIMEZONE
TZID:America/New_York
BEGIN:DAYLIGHT
TZOFFSETFROM:-0500
TZOFFSETTO:-0400
TZNAME:EDT
DTSTART:20200308T070000
END:DAYLIGHT
BEGIN:STANDARD
TZOFFSETFROM:-0400
TZOFFSETTO:-0500
TZNAME:EST
DTSTART:20201101T060000
END:STANDARD
BEGIN:DAYLIGHT
TZOFFSETFROM:-0500
TZOFFSETTO:-0400
TZNAME:EDT
DTSTART:20210314T070000
END:DAYLIGHT
BEGIN:STANDARD
TZOFFSETFROM:-0400
TZOFFSETTO:-0500
TZNAME:EST
DTSTART:20211107T060000
END:STANDARD
BEGIN:DAYLIGHT
TZOFFSETFROM:-0500
TZOFFSETTO:-0400
TZNAME:EDT
DTSTART:20220313T070000
END:DAYLIGHT
BEGIN:STANDARD
TZOFFSETFROM:-0400
TZOFFSETTO:-0500
TZNAME:EST
DTSTART:20221106T060000
END:STANDARD
END:VTIMEZONE
BEGIN:VEVENT
DTSTART;TZID=UTC:20220930T180000
DTEND;TZID=UTC:20220930T210000
DTSTAMP:20260424T052658
CREATED:20220908T140941Z
LAST-MODIFIED:20220908T221446Z
UID:7661-1664560800-1664571600@orrvillecommunitytheater.org
SUMMARY:Christmas Shorts Auditions
DESCRIPTION:Walk-Ins welcome or sign up for a time slot here! \nOrrville Community Theater Rising Stars announce sign up/auditions for our Rising Stars Workshop “Christmas Shorts” (by Lucy Williams\, Produced by special arrangement with Pioneer Drama Service\, Inc.\, Englewood\, Colorado) \nDirected by Chelsea Alleman\, auditions\, for ages 5-18\, will be held at Accord Care Community in the Community Center (1980 Lynn Dr Orrville) on Friday\, September 30\, 2022 from 6-9pm and Saturday\, October 1\, 2022 from 1030am-230pm. \nCost will be $40 for first child in family and $35 for each additional child in same family. \nWorkshop will also be held at Accord Community Center on Tuesday & Thursday evenings. Schedule to be finalized before auditions! \nThe Rising Star Show will be held at Orrville High School auditorium on Dec 2-4\, 2022. \nChristmas Shorts\nYou’ll find everything here\, from kids writing letters to Santa\, to the big guy getting ready for Christmas himself\, to a bunch of elves who accidentally rip Santa’s gift bag at the last minute. (Don’t worry\, Mrs. Claus can fix it!) There’s a sports segment featuring the 845th annual Reindeer Games and a holiday quiz show featuring Scrooge\, Tiny Tim\, and the Ghost of Christmas Future. A soap opera\, As the North Pole Turns\, a news segment from the North Pole News\, and some Christmas-themed commercials round out this fun seasonal comedy.
URL:https://orrvillecommunitytheater.org/event/christmas-shorts-auditions/
LOCATION:Orrville Skilled Nursing & Rehabilitation\, 1980 Lynn Drive\, Orrville\, OH\, 44667\, United States
CATEGORIES:Auditions
ORGANIZER;CN="Orrville Community Theater":MAILTO:orrvilleplayers@gmail.com
END:VEVENT
BEGIN:VEVENT
DTSTART;TZID=UTC:20220812T180000
DTEND;TZID=UTC:20220812T200000
DTSTAMP:20260424T052658
CREATED:20220627T173846Z
LAST-MODIFIED:20220721T141715Z
UID:7582-1660327200-1660334400@orrvillecommunitytheater.org
SUMMARY:Barbecuing Hamlet Auditions
DESCRIPTION:Auditions will be at Christ Church United Church of Christ\, 301 N. Main St.\, Orrville\, OH 44667. Click here to sign up. Walk-ins are also welcome. \nRehearsals will be Monday and Wednesday’s 6PM-8PM and then Monday\, Wednesday\, and Fridays 6PM-8:30PM beginning August 29th. \nShow Dates\n\nFriday\, September 23rd\, 2022 @ 7PM\nSaturday\, September 24th\, 2022 @ 7PM\nSunday\, September 25th\, 2022 @ 2:30PM\n\nWouldn’t it be great fun to direct William Shakespeare’s “Hamlet”? That was what Margo Daley always thought…until she is hired to do just that by the Peaceful Glen Memorial Players in their theater\, a renovated funeral home. They DO have a couple of conditions\, however. Margo has to make the play a melodrama\, so the audience will know when to throw the popcorn. And they can’t be too loud because the lady who lives under the theater bangs her cane on the stage. Oh\, and Margo has to insert the sponsors’ names into the play and\, by the way\, has to take place in the Old West. “And make sure the actors talk real loud because of all the noise the audience makes sucking their fingers\,” states one of the council members\, an occupational hazard brought about by them selling barbecue before the show. All kinds of eccentric characters come out of the woodwork in this riotous tribute to life on the community theater stage. Even the pizza delivery boy is given parts – several since Margo only has four actors to portray the five-act tragedy. Fast lines and even faster exits punctuate this farce as Margo and her troupe of misguided actors find out what it’s like when they begin “Barbecuing Hamlet.” \nFor actors ages 16+ \nCHARACTERS:  \nMARGO DALEY: Smart but reluctant director\, in her 30s.  \nSARGE ABBOTT: Handyman with sarcastic wit\, in his 50s.  \nHOPE HALLIDAY: Snappish 40-year-old\, a bit overweight.  \nDUNCAN O’TOOLE: In his 40s\, always has a story to tell.  \nMARY BETH LUMPKIN: Mousy secretary in her late 20s  \nTAMARA LOGAN: Council chairman\, chic woman\, mid-30s.  \nHAL WEBSTER: Handsome leading man type\, 30s.  \nLAMAR BENTORRES: An erratic\, inexperienced man\, 40s. \n ZOEY MARCUS: A no-nonsense type\, around 30.  \nOPAL BELL: A lady with a lot of pent-up energy\, 35-ish.  \nTHEODORA VAN HORNE: Theater type\, flamboyant\, 50s.  \nBUDGIE SERATT: A young pizza delivery man\, early 20s. HARLEN DORTMUNGER: Fertilizer salesman and critic.
URL:https://orrvillecommunitytheater.org/event/barbecuing-hamlet-auditions-2/
LOCATION:Christ United Church of Christ\, 301 North Main Street\, Orrville\, OH\, 44667\, United States
CATEGORIES:Auditions
ORGANIZER;CN="Orrville Community Theater":MAILTO:orrvilleplayers@gmail.com
END:VEVENT
BEGIN:VEVENT
DTSTART;TZID=UTC:20220810T180000
DTEND;TZID=UTC:20220810T200000
DTSTAMP:20260424T052658
CREATED:20220627T173703Z
LAST-MODIFIED:20220721T141758Z
UID:7580-1660154400-1660161600@orrvillecommunitytheater.org
SUMMARY:Barbecuing Hamlet Auditions
DESCRIPTION:Auditions will be at Christ Church United Church of Christ\, 301 N. Main St.\, Orrville\, OH 44667. Click here to sign up. Walk-ins are also welcome. \nRehearsals will be Monday and Wednesday’s 6PM-8PM and then Monday\, Wednesday\, and Fridays 6PM-8:30PM beginning August 29th. \nShow Dates\n\nFriday\, September 23rd\, 2022 @ 7PM\nSaturday\, September 24th\, 2022 @ 7PM\nSunday\, September 25th\, 2022 @ 2:30PM\n\nWouldn’t it be great fun to direct William Shakespeare’s “Hamlet”? That was what Margo Daley always thought…until she is hired to do just that by the Peaceful Glen Memorial Players in their theater\, a renovated funeral home. They DO have a couple of conditions\, however. Margo has to make the play a melodrama\, so the audience will know when to throw the popcorn. And they can’t be too loud because the lady who lives under the theater bangs her cane on the stage. Oh\, and Margo has to insert the sponsors’ names into the play and\, by the way\, has to take place in the Old West. “And make sure the actors talk real loud because of all the noise the audience makes sucking their fingers\,” states one of the council members\, an occupational hazard brought about by them selling barbecue before the show. All kinds of eccentric characters come out of the woodwork in this riotous tribute to life on the community theater stage. Even the pizza delivery boy is given parts – several since Margo only has four actors to portray the five-act tragedy. Fast lines and even faster exits punctuate this farce as Margo and her troupe of misguided actors find out what it’s like when they begin “Barbecuing Hamlet.” \nLooking for actors ages 16+ \nCHARACTERS:  \nMARGO DALEY: Smart but reluctant director\, in her 30s.  \nSARGE ABBOTT: Handyman with sarcastic wit\, in his 50s.  \nHOPE HALLIDAY: Snappish 40-year-old\, a bit overweight.  \nDUNCAN O’TOOLE: In his 40s\, always has a story to tell.  \nMARY BETH LUMPKIN: Mousy secretary in her late 20s  \nTAMARA LOGAN: Council chairman\, chic woman\, mid-30s.  \nHAL WEBSTER: Handsome leading man type\, 30s.  \nLAMAR BENTORRES: An erratic\, inexperienced man\, 40s. \n ZOEY MARCUS: A no-nonsense type\, around 30.  \nOPAL BELL: A lady with a lot of pent-up energy\, 35-ish.  \nTHEODORA VAN HORNE: Theater type\, flamboyant\, 50s.  \nBUDGIE SERATT: A young pizza delivery man\, early 20s. HARLEN DORTMUNGER: Fertilizer salesman and critic.
URL:https://orrvillecommunitytheater.org/event/barbecuing-hamlet-auditions/
LOCATION:Christ United Church of Christ\, 301 North Main Street\, Orrville\, OH\, 44667\, United States
CATEGORIES:Auditions
ORGANIZER;CN="Orrville Community Theater":MAILTO:orrvilleplayers@gmail.com
END:VEVENT
BEGIN:VEVENT
DTSTART;TZID=UTC:20220618T120000
DTEND;TZID=UTC:20220618T160000
DTSTAMP:20260424T052658
CREATED:20220531T230028Z
LAST-MODIFIED:20220531T230028Z
UID:7106-1655553600-1655568000@orrvillecommunitytheater.org
SUMMARY:Auditions - The Taming of the Shrew
DESCRIPTION:Calling on adults and children ages 14 and older that are interested in theater! \n \nWe are having auditions for our next show! Details on rehearsals and show times can be found here. \nTo sign up for an audition slot\, please click here! \n 
URL:https://orrvillecommunitytheater.org/event/auditions-the-taming-of-the-shrew-2/
LOCATION:Krackpots Comedy Club\, 14 Lincoln Way West\, Massillon\, OH\, 44647\, United States
CATEGORIES:Auditions
ORGANIZER;CN="Orrville Community Theater":MAILTO:orrvilleplayers@gmail.com
END:VEVENT
BEGIN:VEVENT
DTSTART;TZID=UTC:20220616T170000
DTEND;TZID=UTC:20220616T190000
DTSTAMP:20260424T052658
CREATED:20220531T225914Z
LAST-MODIFIED:20220531T225914Z
UID:7102-1655398800-1655406000@orrvillecommunitytheater.org
SUMMARY:Auditions - The Taming of the Shrew
DESCRIPTION:Calling on adults and children ages 14 and older that are interested in theater! \n\nWe are having auditions for our next show! Details on rehearsals and show times can be found here. \nTo sign up for an audition slot\, please click here! \n 
URL:https://orrvillecommunitytheater.org/event/auditions-the-taming-of-the-shrew/
LOCATION:Orrville Public Library\, 230 North Main Street\, Orrville\, OH\, 44667\, United States
CATEGORIES:Auditions
ORGANIZER;CN="Orrville Community Theater":MAILTO:orrvilleplayers@gmail.com
END:VEVENT
BEGIN:VEVENT
DTSTART;TZID=UTC:20220422T173000
DTEND;TZID=UTC:20220422T203000
DTSTAMP:20260424T052658
CREATED:20220407T132350Z
LAST-MODIFIED:20220407T132619Z
UID:6830-1650648600-1650659400@orrvillecommunitytheater.org
SUMMARY:Auditions - Not-So-Grimm Tales
DESCRIPTION:Calling on children ages 4-18 that are interested in theater! \n\nWe are having auditions for our next Rising Stars Workshop. Details on rehearsals and show times can be found here. \nTo sign up for an audition slot\, please click here!
URL:https://orrvillecommunitytheater.org/event/auditions-not-so-grimm-tales/
LOCATION:Christ United Church of Christ\, 301 North Main Street\, Orrville\, OH\, 44667\, United States
CATEGORIES:Auditions,Workshop
ORGANIZER;CN="Orrville Community Theater":MAILTO:orrvilleplayers@gmail.com
END:VEVENT
BEGIN:VEVENT
DTSTART;TZID=America/New_York:20211003T160000
DTEND;TZID=America/New_York:20211003T180000
DTSTAMP:20260424T052658
CREATED:20210923T134859Z
LAST-MODIFIED:20210923T154100Z
UID:6183-1633276800-1633284000@orrvillecommunitytheater.org
SUMMARY:It's A Wonderful Life Auditions
DESCRIPTION:
URL:https://orrvillecommunitytheater.org/event/its-a-wonderful-life-auditions/
LOCATION:Sonnenberg Village\, 13497 Hackett Road\, Apple Creek\, 44606
CATEGORIES:Auditions
END:VEVENT
END:VCALENDAR