BEGIN:VCALENDAR
VERSION:2.0
PRODID:-//Orrville Community Theater - ECPv6.15.20//NONSGML v1.0//EN
CALSCALE:GREGORIAN
METHOD:PUBLISH
X-WR-CALNAME:Orrville Community Theater
X-ORIGINAL-URL:https://orrvillecommunitytheater.org
X-WR-CALDESC:Events for Orrville Community Theater
REFRESH-INTERVAL;VALUE=DURATION:PT1H
X-Robots-Tag:noindex
X-PUBLISHED-TTL:PT1H
BEGIN:VTIMEZONE
TZID:America/New_York
BEGIN:DAYLIGHT
TZOFFSETFROM:-0500
TZOFFSETTO:-0400
TZNAME:EDT
DTSTART:20230312T070000
END:DAYLIGHT
BEGIN:STANDARD
TZOFFSETFROM:-0400
TZOFFSETTO:-0500
TZNAME:EST
DTSTART:20231105T060000
END:STANDARD
BEGIN:DAYLIGHT
TZOFFSETFROM:-0500
TZOFFSETTO:-0400
TZNAME:EDT
DTSTART:20240310T070000
END:DAYLIGHT
BEGIN:STANDARD
TZOFFSETFROM:-0400
TZOFFSETTO:-0500
TZNAME:EST
DTSTART:20241103T060000
END:STANDARD
BEGIN:DAYLIGHT
TZOFFSETFROM:-0500
TZOFFSETTO:-0400
TZNAME:EDT
DTSTART:20250309T070000
END:DAYLIGHT
BEGIN:STANDARD
TZOFFSETFROM:-0400
TZOFFSETTO:-0500
TZNAME:EST
DTSTART:20251102T060000
END:STANDARD
END:VTIMEZONE
BEGIN:VEVENT
DTSTART;TZID=America/New_York:20240514T180000
DTEND;TZID=America/New_York:20240514T193000
DTSTAMP:20260425T181526
CREATED:20240409T141638Z
LAST-MODIFIED:20240411T203910Z
UID:9809-1715709600-1715715000@orrvillecommunitytheater.org
SUMMARY:The Light in the Library - Auditions
DESCRIPTION:Orrville Community Theater is excited to announce The Light in the Library! This will be a Rising Stars Workshop for ages 6-18. Sign-up for auditions here! Walk-ins are also welcome!  \n \n \n\nAuditions are on May 10 from 6-8pm and May 11 from 11am-2pm at Christ United Church of Christ; and the Orrville Public Library on May 14 from 6pm-7:30pm. \n\nDirected by:\nDirector – Chelsea Alleman \nAssistant Directors: Annie & Dominic DiScipio \nWorkshop cost is $40 for the first child and $35 for each sibling in same family. Our Rising Stars workshops teach children about live theater. \nRehearsals will be held at Christ United Church of Christ on Mondays from 6-8pm and Thursdays from 7-8:30pm beginning May 20. \nOur Rising Stars show will be on August 16-18 at Christ United Church of Christ. \n\nTalk about literature coming to life! Gabby suspects something is going on in the library at night\, so she enlists the help of her best friend\, Paige\, to do some sleuthing. Together they hide in the library after it closes and discover that it’s haunted by a silent ghost who leads them to a book containing a cryptic poem. As Paige and Gabby decipher the poem\, they find clues that enable them to bring fictional characters to life\, starting with Jim Hawkins from Treasure Island. Jim helps them summon even more characters from other books and soon\, the library is overrun with the denizens of literature — Humpty Dumpty\, the Mad Hatter\, Alice in Wonderland\, Anne of Green Gables\, Romeo\, and others. Things are definitely out of hand\, but they take a turn for the worse when — shiver me timbers! — Long John Silver is inadvertently brought to life. The pirate sets out on a thieving spree\, and he’s not afraid to use his cutlass to get what he wants! It’s up to Paige\, Gabby and Jim to defeat the pirate and return the characters to their stories before the library reopens. All that’s necessary for a happy ending is courage\, ingenuity… and one more character brought to life. \n\n 
URL:https://orrvillecommunitytheater.org/event/the-light-in-the-library-auditions-3/
LOCATION:Orrville Public Library\, 230 North Main Street\, Orrville\, OH\, 44667\, United States
CATEGORIES:Auditions,Workshop
ORGANIZER;CN="Orrville Community Theater":MAILTO:orrvilleplayers@gmail.com
END:VEVENT
BEGIN:VEVENT
DTSTART;TZID=America/New_York:20240913T180000
DTEND;TZID=America/New_York:20240913T200000
DTSTAMP:20260425T181526
CREATED:20240909T172217Z
LAST-MODIFIED:20240909T172217Z
UID:10477-1726250400-1726257600@orrvillecommunitytheater.org
SUMMARY:Auditions: Christmas Scene Investigators
DESCRIPTION:OCT is excited to announce\, “Christmas Scene Investigators”!\n \n\n \n𝗧𝗵𝗶𝘀 𝘀𝗵𝗼𝘄 𝘄𝗶𝗹𝗹 𝗯𝗲 𝗳𝗼𝗿 𝗮𝗴𝗲𝘀 𝟭𝟬-𝟭𝟴 & it will not be a workshop\, so roles are not guaranteed. However\, we are looking for several stage crew as well. \n\n \n𝗔𝘂𝗱𝗶𝘁𝗶𝗼𝗻𝘀 will be held on:\n➤Fri. Sept. 13 from 6-8 @ Orrville Skilled Nursing & Rehabilitation.\n➤Sat. Sept. 14 from 11-2 @ Orrville Public Library.\n➤Mon. Sept. 16 from 6-7:30 @ Orrville Skilled Nursing & Rehabilitation.\nArrive 15 minutes early for your audition to fill out paperwork and be prepared to have a photo taken for audition purposes. You will be cold-reading from the script. Please bring all your conflicts.\n𝗦𝗶𝗴𝗻 𝘂𝗽 𝗳𝗼𝗿 𝗮𝘂𝗱𝗶𝘁𝗶𝗼𝗻𝘀 𝗯𝗲𝗹𝗼𝘄:\nhttps://www.signupgenius.com/…/10C0F44AAA72DA2F9C07…\n𝗗𝗶𝗿𝗲𝗰𝘁𝗲𝗱 𝗯𝘆: Dominic DiScipio Ketler\n\n𝗦𝘆𝗻𝗼𝗽𝘀𝗶𝘀: \nAt Wendell Wilke High\, Christmas may not come at all if Principal Crunge has his way. The reason? Santa Claus is missing! During the last rehearsal for the annual Christmas Show\, the action comes to a screeching halt when the cast discovers that the Santa Claus statue\, the highlight of the final number\, has been stolen! ’That’s it!’ intones the principal. ’No Santa\, no show!’ Finally\, Mrs. Dickens\, the director\, urges him to give them a chance to find the missing St. Nick. She immediately calls in the Clue Club — a group of five ambitious and eccentric students who take mystery and detection into the realm of science. Lines\, accusations and motives fly fast & furious as each student\, from the jock who’s in the show on a bet\, to the girl who has a crush on the stage manager\, becomes a suspect\, along with the costumer\, stage manager\, school receptionist\, janitor and even Mrs. Dickens. Full of more surprises than a fruitcake\, the Clue Club finds they have successfully fulfilled their duty as ’Christmas Scene Investigators’ when they reveal just why the true meaning of Christmas is all that really matters.
URL:https://orrvillecommunitytheater.org/event/auditions-christmas-scene-investigators/
LOCATION:Orrville Skilled Nursing & Rehabilitation\, 1980 Lynn Drive\, Orrville\, OH\, 44667\, United States
CATEGORIES:Auditions
ORGANIZER;CN="Orrville Community Theater":MAILTO:orrvilleplayers@gmail.com
END:VEVENT
BEGIN:VEVENT
DTSTART;TZID=America/New_York:20240914T110000
DTEND;TZID=America/New_York:20240914T140000
DTSTAMP:20260425T181526
CREATED:20240909T172352Z
LAST-MODIFIED:20240909T172352Z
UID:10479-1726311600-1726322400@orrvillecommunitytheater.org
SUMMARY:Auditions: Christmas Scene Investigators
DESCRIPTION:OCT is excited to announce\, “Christmas Scene Investigators”!\n \n\n \n𝗧𝗵𝗶𝘀 𝘀𝗵𝗼𝘄 𝘄𝗶𝗹𝗹 𝗯𝗲 𝗳𝗼𝗿 𝗮𝗴𝗲𝘀 𝟭𝟬-𝟭𝟴 & it will not be a workshop\, so roles are not guaranteed. However\, we are looking for several stage crew as well. \n\n \n𝗔𝘂𝗱𝗶𝘁𝗶𝗼𝗻𝘀 will be held on:\n➤Fri. Sept. 13 from 6-8 @ Orrville Skilled Nursing & Rehabilitation.\n➤Sat. Sept. 14 from 11-2 @ Orrville Public Library.\n➤Mon. Sept. 16 from 6-7:30 @ Orrville Skilled Nursing & Rehabilitation.\nArrive 15 minutes early for your audition to fill out paperwork and be prepared to have a photo taken for audition purposes. You will be cold-reading from the script. Please bring all your conflicts.\n𝗦𝗶𝗴𝗻 𝘂𝗽 𝗳𝗼𝗿 𝗮𝘂𝗱𝗶𝘁𝗶𝗼𝗻𝘀 𝗯𝗲𝗹𝗼𝘄:\nhttps://www.signupgenius.com/…/10C0F44AAA72DA2F9C07…\n𝗗𝗶𝗿𝗲𝗰𝘁𝗲𝗱 𝗯𝘆: Dominic DiScipio Ketler\n\n𝗦𝘆𝗻𝗼𝗽𝘀𝗶𝘀: \nAt Wendell Wilke High\, Christmas may not come at all if Principal Crunge has his way. The reason? Santa Claus is missing! During the last rehearsal for the annual Christmas Show\, the action comes to a screeching halt when the cast discovers that the Santa Claus statue\, the highlight of the final number\, has been stolen! ’That’s it!’ intones the principal. ’No Santa\, no show!’ Finally\, Mrs. Dickens\, the director\, urges him to give them a chance to find the missing St. Nick. She immediately calls in the Clue Club — a group of five ambitious and eccentric students who take mystery and detection into the realm of science. Lines\, accusations and motives fly fast & furious as each student\, from the jock who’s in the show on a bet\, to the girl who has a crush on the stage manager\, becomes a suspect\, along with the costumer\, stage manager\, school receptionist\, janitor and even Mrs. Dickens. Full of more surprises than a fruitcake\, the Clue Club finds they have successfully fulfilled their duty as ’Christmas Scene Investigators’ when they reveal just why the true meaning of Christmas is all that really matters.
URL:https://orrvillecommunitytheater.org/event/auditions-christmas-scene-investigators-2/
LOCATION:Orrville Public Library\, 230 North Main Street\, Orrville\, OH\, 44667\, United States
CATEGORIES:Auditions
ORGANIZER;CN="Orrville Community Theater":MAILTO:orrvilleplayers@gmail.com
END:VEVENT
BEGIN:VEVENT
DTSTART;TZID=America/New_York:20240916T180000
DTEND;TZID=America/New_York:20240916T193000
DTSTAMP:20260425T181526
CREATED:20240909T172648Z
LAST-MODIFIED:20240909T172648Z
UID:10481-1726509600-1726515000@orrvillecommunitytheater.org
SUMMARY:Auditions: Christmas Scene Investigators
DESCRIPTION:OCT is excited to announce\, “Christmas Scene Investigators”!\n \n\n \n𝗧𝗵𝗶𝘀 𝘀𝗵𝗼𝘄 𝘄𝗶𝗹𝗹 𝗯𝗲 𝗳𝗼𝗿 𝗮𝗴𝗲𝘀 𝟭𝟬-𝟭𝟴 & it will not be a workshop\, so roles are not guaranteed. However\, we are looking for several stage crew as well. \n\n \n𝗔𝘂𝗱𝗶𝘁𝗶𝗼𝗻𝘀 will be held on:\n➤Fri. Sept. 13 from 6-8 @ Orrville Skilled Nursing & Rehabilitation.\n➤Sat. Sept. 14 from 11-2 @ Orrville Public Library.\n➤Mon. Sept. 16 from 6-7:30 @ Orrville Skilled Nursing & Rehabilitation.\nArrive 15 minutes early for your audition to fill out paperwork and be prepared to have a photo taken for audition purposes. You will be cold-reading from the script. Please bring all your conflicts.\n𝗦𝗶𝗴𝗻 𝘂𝗽 𝗳𝗼𝗿 𝗮𝘂𝗱𝗶𝘁𝗶𝗼𝗻𝘀 𝗯𝗲𝗹𝗼𝘄:\nhttps://www.signupgenius.com/…/10C0F44AAA72DA2F9C07…\n𝗗𝗶𝗿𝗲𝗰𝘁𝗲𝗱 𝗯𝘆: Dominic DiScipio Ketler\n\n𝗦𝘆𝗻𝗼𝗽𝘀𝗶𝘀: \nAt Wendell Wilke High\, Christmas may not come at all if Principal Crunge has his way. The reason? Santa Claus is missing! During the last rehearsal for the annual Christmas Show\, the action comes to a screeching halt when the cast discovers that the Santa Claus statue\, the highlight of the final number\, has been stolen! ’That’s it!’ intones the principal. ’No Santa\, no show!’ Finally\, Mrs. Dickens\, the director\, urges him to give them a chance to find the missing St. Nick. She immediately calls in the Clue Club — a group of five ambitious and eccentric students who take mystery and detection into the realm of science. Lines\, accusations and motives fly fast & furious as each student\, from the jock who’s in the show on a bet\, to the girl who has a crush on the stage manager\, becomes a suspect\, along with the costumer\, stage manager\, school receptionist\, janitor and even Mrs. Dickens. Full of more surprises than a fruitcake\, the Clue Club finds they have successfully fulfilled their duty as ’Christmas Scene Investigators’ when they reveal just why the true meaning of Christmas is all that really matters.
URL:https://orrvillecommunitytheater.org/event/auditions-christmas-scene-investigators-3/
LOCATION:Orrville Skilled Nursing & Rehabilitation\, 1980 Lynn Drive\, Orrville\, OH\, 44667\, United States
CATEGORIES:Auditions
END:VEVENT
END:VCALENDAR