BEGIN:VCALENDAR
VERSION:2.0
PRODID:-//Orrville Community Theater - ECPv6.15.20//NONSGML v1.0//EN
CALSCALE:GREGORIAN
METHOD:PUBLISH
X-ORIGINAL-URL:https://orrvillecommunitytheater.org
X-WR-CALDESC:Events for Orrville Community Theater
REFRESH-INTERVAL;VALUE=DURATION:PT1H
X-Robots-Tag:noindex
X-PUBLISHED-TTL:PT1H
BEGIN:VTIMEZONE
TZID:America/New_York
BEGIN:DAYLIGHT
TZOFFSETFROM:-0500
TZOFFSETTO:-0400
TZNAME:EDT
DTSTART:20230312T070000
END:DAYLIGHT
BEGIN:STANDARD
TZOFFSETFROM:-0400
TZOFFSETTO:-0500
TZNAME:EST
DTSTART:20231105T060000
END:STANDARD
BEGIN:DAYLIGHT
TZOFFSETFROM:-0500
TZOFFSETTO:-0400
TZNAME:EDT
DTSTART:20240310T070000
END:DAYLIGHT
BEGIN:STANDARD
TZOFFSETFROM:-0400
TZOFFSETTO:-0500
TZNAME:EST
DTSTART:20241103T060000
END:STANDARD
BEGIN:DAYLIGHT
TZOFFSETFROM:-0500
TZOFFSETTO:-0400
TZNAME:EDT
DTSTART:20250309T070000
END:DAYLIGHT
BEGIN:STANDARD
TZOFFSETFROM:-0400
TZOFFSETTO:-0500
TZNAME:EST
DTSTART:20251102T060000
END:STANDARD
END:VTIMEZONE
BEGIN:VEVENT
DTSTART;TZID=America/New_York:20240511T110000
DTEND;TZID=America/New_York:20240511T140000
DTSTAMP:20260425T082130
CREATED:20240409T141440Z
LAST-MODIFIED:20240409T141440Z
UID:9807-1715425200-1715436000@orrvillecommunitytheater.org
SUMMARY:The Light in the Library - Auditions
DESCRIPTION:Orrville Community Theater is excited to announce The Light in the Library! This will be a Rising Stars Workshop for ages 6-18. Sign-up for auditions here! Walk-ins are also welcome!\n\n\n\n\nAuditions are on May 10 from 6-8pm and May 11 from 11am-2pm at Christ United Church of Christ; and the Orrville Public Library on May 14 from 6pm-7:30pm. \n\n\n\nDirected by:\nDirector – Chelsea Alleman \nAssistant Directors: Annie & Dominic DiScipio \n\n\nWorkshop cost is $40 for the first child and $35 for each sibling in same family. Our Rising Stars workshops teach children about live theater. \nRehearsals will be held at Christ United Church of Christ on Mondays from 6-8pm and Thursdays from 7-8:30pm beginning May 20. \n\nOur Rising Stars show will be on August 16-18 at Christ United Church of Christ.\n\n\nTalk about literature coming to life! Gabby suspects something is going on in the library at night\, so she enlists the help of her best friend\, Paige\, to do some sleuthing. Together they hide in the library after it closes and discover that it’s haunted by a silent ghost who leads them to a book containing a cryptic poem. As Paige and Gabby decipher the poem\, they find clues that enable them to bring fictional characters to life\, starting with Jim Hawkins from Treasure Island. Jim helps them summon even more characters from other books and soon\, the library is overrun with the denizens of literature — Humpty Dumpty\, the Mad Hatter\, Alice in Wonderland\, Anne of Green Gables\, Romeo\, and others. Things are definitely out of hand\, but they take a turn for the worse when — shiver me timbers! — Long John Silver is inadvertently brought to life. The pirate sets out on a thieving spree\, and he’s not afraid to use his cutlass to get what he wants! It’s up to Paige\, Gabby and Jim to defeat the pirate and return the characters to their stories before the library reopens. All that’s necessary for a happy ending is courage\, ingenuity… and one more character brought to life.\n\n\n\n 
URL:https://orrvillecommunitytheater.org/event/the-light-in-the-library-auditions-2/
LOCATION:Christ United Church of Christ\, 301 North Main Street\, Orrville\, OH\, 44667\, United States
CATEGORIES:Auditions,Workshop
ORGANIZER;CN="Orrville Community Theater":MAILTO:orrvilleplayers@gmail.com
END:VEVENT
END:VCALENDAR